BEGIN:VCALENDAR
VERSION:2.0
PRODID:-//TSA Curling Club - ECPv6.15.20//NONSGML v1.0//EN
CALSCALE:GREGORIAN
METHOD:PUBLISH
X-ORIGINAL-URL:https://tsacurlingclub.com
X-WR-CALDESC:Events for TSA Curling Club
REFRESH-INTERVAL;VALUE=DURATION:PT1H
X-Robots-Tag:noindex
X-PUBLISHED-TTL:PT1H
BEGIN:VTIMEZONE
TZID:America/Moncton
BEGIN:DAYLIGHT
TZOFFSETFROM:-0400
TZOFFSETTO:-0300
TZNAME:ADT
DTSTART:20250309T060000
END:DAYLIGHT
BEGIN:STANDARD
TZOFFSETFROM:-0300
TZOFFSETTO:-0400
TZNAME:AST
DTSTART:20251102T050000
END:STANDARD
BEGIN:DAYLIGHT
TZOFFSETFROM:-0400
TZOFFSETTO:-0300
TZNAME:ADT
DTSTART:20260308T060000
END:DAYLIGHT
BEGIN:STANDARD
TZOFFSETFROM:-0300
TZOFFSETTO:-0400
TZNAME:AST
DTSTART:20261101T050000
END:STANDARD
BEGIN:DAYLIGHT
TZOFFSETFROM:-0400
TZOFFSETTO:-0300
TZNAME:ADT
DTSTART:20270314T060000
END:DAYLIGHT
BEGIN:STANDARD
TZOFFSETFROM:-0300
TZOFFSETTO:-0400
TZNAME:AST
DTSTART:20271107T050000
END:STANDARD
END:VTIMEZONE
BEGIN:VEVENT
DTSTART;TZID=America/Moncton:20260501T200000
DTEND;TZID=America/Moncton:20260501T230000
DTSTAMP:20260425T091103
CREATED:20260121T211254Z
LAST-MODIFIED:20260121T212817Z
UID:8610-1777665600-1777676400@tsacurlingclub.com
SUMMARY:Stand-Up Comedy of Ahren Belisle
DESCRIPTION:Overview\n\n\n\nKill Tony / America’s Got Talent’s Own AHREN BELISLE Live In Saint John NB \n\n\n\n\nThe Diamond Mine Agency Presents: \nAHREN BELISLE \nAhren Belisle has skyrocketed onto some of the biggest stages in comedy—despite only performing stand-up for a few short years. He won over millions as a Top 10 Finalist on America’s Got Talent and made an unforgettable debut on the wildly popular podcast Kill Tony\, where he’s become a regular fixture. A former software engineer and mental health advocate\, Ahren was born in Northern Ontario with cerebral palsy and is nonverbal\, delivering his punchlines through his phone. His innate charm and quick wit have earned him a unique place in comedy—where the comedian who doesn’t speak is allowed to say anything. Ahren has built a devoted following of over a million fans across social media\, using his platform to blend bold comedy with messages of positivity\, inclusion\, and resilience. \nFRIDAY MAY 1ST\,2026 \nDUFFERIN HALL- SAINT JOHN NB \nDOORS 7:30PM / SHOW 8PM / 19+ CONTENT \nTICKETS $35 @ EVENTBRITE.CA
URL:https://tsacurlingclub.com/event/stand-up-comedy-of-ahren-belisle/
LOCATION:TSA Curling Club\, 49 Dufferin Avenue\, Saint John\, NB\, E2K 2T7\, Canada
CATEGORIES:TSA
ATTACH;FMTTYPE=image/jpeg:https://tsacurlingclub.com/wp-content/uploads/2026/01/1000051535.jpg
END:VEVENT
END:VCALENDAR