BEGIN:VCALENDAR
VERSION:2.0
PRODID:-//TSA Curling Club - ECPv6.15.20//NONSGML v1.0//EN
CALSCALE:GREGORIAN
METHOD:PUBLISH
X-WR-CALNAME:TSA Curling Club
X-ORIGINAL-URL:https://tsacurlingclub.com
X-WR-CALDESC:Events for TSA Curling Club
REFRESH-INTERVAL;VALUE=DURATION:PT1H
X-Robots-Tag:noindex
X-PUBLISHED-TTL:PT1H
BEGIN:VTIMEZONE
TZID:America/Moncton
BEGIN:DAYLIGHT
TZOFFSETFROM:-0400
TZOFFSETTO:-0300
TZNAME:ADT
DTSTART:20250309T060000
END:DAYLIGHT
BEGIN:STANDARD
TZOFFSETFROM:-0300
TZOFFSETTO:-0400
TZNAME:AST
DTSTART:20251102T050000
END:STANDARD
BEGIN:DAYLIGHT
TZOFFSETFROM:-0400
TZOFFSETTO:-0300
TZNAME:ADT
DTSTART:20260308T060000
END:DAYLIGHT
BEGIN:STANDARD
TZOFFSETFROM:-0300
TZOFFSETTO:-0400
TZNAME:AST
DTSTART:20261101T050000
END:STANDARD
BEGIN:DAYLIGHT
TZOFFSETFROM:-0400
TZOFFSETTO:-0300
TZNAME:ADT
DTSTART:20270314T060000
END:DAYLIGHT
BEGIN:STANDARD
TZOFFSETFROM:-0300
TZOFFSETTO:-0400
TZNAME:AST
DTSTART:20271107T050000
END:STANDARD
END:VTIMEZONE
BEGIN:VEVENT
DTSTART;TZID=America/Moncton:20260327T080000
DTEND;TZID=America/Moncton:20260329T170000
DTSTAMP:20260425T105407
CREATED:20251111T033148Z
LAST-MODIFIED:20251111T033149Z
UID:7926-1774598400-1774803600@tsacurlingclub.com
SUMMARY:New Brunswick Little Rock Jamboree
DESCRIPTION:
URL:https://tsacurlingclub.com/event/new-brunswick-little-rock-jamboree/
LOCATION:TSA Curling Club\, 49 Dufferin Avenue\, Saint John\, NB\, E2K 2T7\, Canada
CATEGORIES:Little Rock,TSA
END:VEVENT
BEGIN:VEVENT
DTSTART;VALUE=DATE:20260328
DTEND;VALUE=DATE:20260329
DTSTAMP:20260425T105407
CREATED:20260203T151752Z
LAST-MODIFIED:20260203T151752Z
UID:8679-1774656000-1774742399@tsacurlingclub.com
SUMMARY:TSA LOTTO 10/49 Mar 28
DESCRIPTION:The LOTTO 10/49 starts on March 28. The deadline to enter is FRIDAY MARCH 27 at 11 PM. This is open to all New Brunswick residents over 18 years of age. \nThere will be two more lottos: \n\nMarch 28\nMay 2\n\nYou can buy 1 set of numbers for $10 or 3 sets for $30. Learn more at https://tsacurlingclub.com/tsa-lotto/
URL:https://tsacurlingclub.com/event/tsa-lotto-10-49-march/
LOCATION:NB
CATEGORIES:TSA
ATTACH;FMTTYPE=image/jpeg:https://tsacurlingclub.com/wp-content/uploads/2026/02/duck-1600x900-1.jpg
END:VEVENT
END:VCALENDAR