BEGIN:VCALENDAR
VERSION:2.0
PRODID:-//TSA Curling Club - ECPv6.15.20//NONSGML v1.0//EN
CALSCALE:GREGORIAN
METHOD:PUBLISH
X-WR-CALNAME:TSA Curling Club
X-ORIGINAL-URL:https://tsacurlingclub.com
X-WR-CALDESC:Events for TSA Curling Club
REFRESH-INTERVAL;VALUE=DURATION:PT1H
X-Robots-Tag:noindex
X-PUBLISHED-TTL:PT1H
BEGIN:VTIMEZONE
TZID:America/Moncton
BEGIN:DAYLIGHT
TZOFFSETFROM:-0400
TZOFFSETTO:-0300
TZNAME:ADT
DTSTART:20250309T060000
END:DAYLIGHT
BEGIN:STANDARD
TZOFFSETFROM:-0300
TZOFFSETTO:-0400
TZNAME:AST
DTSTART:20251102T050000
END:STANDARD
BEGIN:DAYLIGHT
TZOFFSETFROM:-0400
TZOFFSETTO:-0300
TZNAME:ADT
DTSTART:20260308T060000
END:DAYLIGHT
BEGIN:STANDARD
TZOFFSETFROM:-0300
TZOFFSETTO:-0400
TZNAME:AST
DTSTART:20261101T050000
END:STANDARD
BEGIN:DAYLIGHT
TZOFFSETFROM:-0400
TZOFFSETTO:-0300
TZNAME:ADT
DTSTART:20270314T060000
END:DAYLIGHT
BEGIN:STANDARD
TZOFFSETFROM:-0300
TZOFFSETTO:-0400
TZNAME:AST
DTSTART:20271107T050000
END:STANDARD
END:VTIMEZONE
BEGIN:VEVENT
DTSTART;TZID=America/Moncton:20260216T080000
DTEND;TZID=America/Moncton:20260224T120000
DTSTAMP:20260425T124109
CREATED:20260128T004423Z
LAST-MODIFIED:20260128T004653Z
UID:8632-1771228800-1771934400@tsacurlingclub.com
SUMMARY:TSA Food Drive - Supporting the North End Food Bank
DESCRIPTION:The demand at the North End Food Bank has tripled from 279 households in 2019 to 650 in 2025. \nTotes will be available near the front door of the club from Feb 16th to the 24th. \nSpecial Needs include instant coffee\, tea and sugar \nThe North End Food Bank greatly appreciates TSA’s continued generosity and support.
URL:https://tsacurlingclub.com/event/tsa-food-drive-support-north-end-food-bank/
LOCATION:TSA Curling Club\, 49 Dufferin Avenue\, Saint John\, NB\, E2K 2T7\, Canada
CATEGORIES:TSA
ATTACH;FMTTYPE=image/png:https://tsacurlingclub.com/wp-content/uploads/2026/01/Food-Drive-Winter-2026.png
END:VEVENT
END:VCALENDAR