BEGIN:VCALENDAR
VERSION:2.0
PRODID:-//TSA Curling Club - ECPv6.15.20//NONSGML v1.0//EN
CALSCALE:GREGORIAN
METHOD:PUBLISH
X-ORIGINAL-URL:https://tsacurlingclub.com
X-WR-CALDESC:Events for TSA Curling Club
REFRESH-INTERVAL;VALUE=DURATION:PT1H
X-Robots-Tag:noindex
X-PUBLISHED-TTL:PT1H
BEGIN:VTIMEZONE
TZID:America/Moncton
BEGIN:DAYLIGHT
TZOFFSETFROM:-0400
TZOFFSETTO:-0300
TZNAME:ADT
DTSTART:20240310T060000
END:DAYLIGHT
BEGIN:STANDARD
TZOFFSETFROM:-0300
TZOFFSETTO:-0400
TZNAME:AST
DTSTART:20241103T050000
END:STANDARD
BEGIN:DAYLIGHT
TZOFFSETFROM:-0400
TZOFFSETTO:-0300
TZNAME:ADT
DTSTART:20250309T060000
END:DAYLIGHT
BEGIN:STANDARD
TZOFFSETFROM:-0300
TZOFFSETTO:-0400
TZNAME:AST
DTSTART:20251102T050000
END:STANDARD
BEGIN:DAYLIGHT
TZOFFSETFROM:-0400
TZOFFSETTO:-0300
TZNAME:ADT
DTSTART:20260308T060000
END:DAYLIGHT
BEGIN:STANDARD
TZOFFSETFROM:-0300
TZOFFSETTO:-0400
TZNAME:AST
DTSTART:20261101T050000
END:STANDARD
END:VTIMEZONE
BEGIN:VEVENT
DTSTART;TZID=America/Moncton:20251102T080000
DTEND;TZID=America/Moncton:20251102T160000
DTSTAMP:20260425T175131
CREATED:20250607T172222Z
LAST-MODIFIED:20250607T172223Z
UID:7139-1762070400-1762099200@tsacurlingclub.com
SUMMARY:Assistant Curling Ice Technician Course
DESCRIPTION:Assistant Curling Ice Technician Course \nSunday\, November 2\, 2025  \nDate:                                                                         Sunday\, November 2\, 2025 \nLocation:                                                                 Thistle St. Andrews Curling Club \nFacilitator:                                                             Chris Tapley \nRegistration & Payment Deadline Date:  October 17\, 2025 \nCost:             $125.00 made payable by e-transfer to nbca@nb.sympatico.ca \nMinimum course capacity is six (6) \nMaximum course capacity is twelve (12) \nPlacement Confirmed Upon Completion of On-Line Registration AND Receipt of Payment  \nCourse Prerequisites:  None required \nCourse Schedule:           Sunday\, November 2              8:00 AM — 4:00 PM                                          \n—————————————————————————————————— \nRegister at:  https://nb.curling.io/en/products \nDirect Questions to Chris Tapley icetec@live.ca \n 
URL:https://tsacurlingclub.com/event/assistant-curling-ice-technician-course/
LOCATION:TSA Curling Club\, 49 Dufferin Avenue\, Saint John\, NB\, E2K 2T7\, Canada
CATEGORIES:Clinic,TSA
ATTACH;FMTTYPE=image/png:https://tsacurlingclub.com/wp-content/uploads/2025/06/Curling-nb-and-PNB-800x445-1.png
END:VEVENT
END:VCALENDAR