BEGIN:VCALENDAR
VERSION:2.0
PRODID:-//TSA Curling Club - ECPv6.15.20//NONSGML v1.0//EN
CALSCALE:GREGORIAN
METHOD:PUBLISH
X-WR-CALNAME:TSA Curling Club
X-ORIGINAL-URL:https://tsacurlingclub.com
X-WR-CALDESC:Events for TSA Curling Club
REFRESH-INTERVAL;VALUE=DURATION:PT1H
X-Robots-Tag:noindex
X-PUBLISHED-TTL:PT1H
BEGIN:VTIMEZONE
TZID:America/Moncton
BEGIN:DAYLIGHT
TZOFFSETFROM:-0400
TZOFFSETTO:-0300
TZNAME:ADT
DTSTART:20240310T060000
END:DAYLIGHT
BEGIN:STANDARD
TZOFFSETFROM:-0300
TZOFFSETTO:-0400
TZNAME:AST
DTSTART:20241103T050000
END:STANDARD
BEGIN:DAYLIGHT
TZOFFSETFROM:-0400
TZOFFSETTO:-0300
TZNAME:ADT
DTSTART:20250309T060000
END:DAYLIGHT
BEGIN:STANDARD
TZOFFSETFROM:-0300
TZOFFSETTO:-0400
TZNAME:AST
DTSTART:20251102T050000
END:STANDARD
BEGIN:DAYLIGHT
TZOFFSETFROM:-0400
TZOFFSETTO:-0300
TZNAME:ADT
DTSTART:20260308T060000
END:DAYLIGHT
BEGIN:STANDARD
TZOFFSETFROM:-0300
TZOFFSETTO:-0400
TZNAME:AST
DTSTART:20261101T050000
END:STANDARD
END:VTIMEZONE
BEGIN:VEVENT
DTSTART;TZID=America/Moncton:20251101T120000
DTEND;TZID=America/Moncton:20251101T180000
DTSTAMP:20260425T173145
CREATED:20251008T131432Z
LAST-MODIFIED:20251008T132805Z
UID:7303-1761998400-1762020000@tsacurlingclub.com
SUMMARY:United Way - Curl for a Cause
DESCRIPTION:The Curl for a Cause event is organized by United Way Maritimes and aims to raise funds for local charities.\n\n\nGen Next Curl For a Cause will take place on November 1\, 2025\, from 12:00 PM to 6:00 PM ADT at the TSA Curling Club in Saint John\, NB.\n\n\nThe event includes activities such as two four-end games\, a silent auction\, and a 50/50 draw\, with a team fee of $300.\n\n\nParticipants can enjoy the benefits of curling\, which promotes physical and mental well-being while fostering teamwork and leadership skills.
URL:https://tsacurlingclub.com/event/united-way-curl-for-a-cause/
LOCATION:TSA Curling Club\, 49 Dufferin Avenue\, Saint John\, NB\, E2K 2T7\, Canada
CATEGORIES:Mixed,TSA
END:VEVENT
END:VCALENDAR