BEGIN:VCALENDAR
VERSION:2.0
PRODID:-//TSA Curling Club - ECPv6.15.20//NONSGML v1.0//EN
CALSCALE:GREGORIAN
METHOD:PUBLISH
X-WR-CALNAME:TSA Curling Club
X-ORIGINAL-URL:https://tsacurlingclub.com
X-WR-CALDESC:Events for TSA Curling Club
REFRESH-INTERVAL;VALUE=DURATION:PT1H
X-Robots-Tag:noindex
X-PUBLISHED-TTL:PT1H
BEGIN:VTIMEZONE
TZID:America/Moncton
BEGIN:DAYLIGHT
TZOFFSETFROM:-0400
TZOFFSETTO:-0300
TZNAME:ADT
DTSTART:20250309T060000
END:DAYLIGHT
BEGIN:STANDARD
TZOFFSETFROM:-0300
TZOFFSETTO:-0400
TZNAME:AST
DTSTART:20251102T050000
END:STANDARD
BEGIN:DAYLIGHT
TZOFFSETFROM:-0400
TZOFFSETTO:-0300
TZNAME:ADT
DTSTART:20260308T060000
END:DAYLIGHT
BEGIN:STANDARD
TZOFFSETFROM:-0300
TZOFFSETTO:-0400
TZNAME:AST
DTSTART:20261101T050000
END:STANDARD
BEGIN:DAYLIGHT
TZOFFSETFROM:-0400
TZOFFSETTO:-0300
TZNAME:ADT
DTSTART:20270314T060000
END:DAYLIGHT
BEGIN:STANDARD
TZOFFSETFROM:-0300
TZOFFSETTO:-0400
TZNAME:AST
DTSTART:20271107T050000
END:STANDARD
END:VTIMEZONE
BEGIN:VEVENT
DTSTART;TZID=America/Moncton:20260130T080000
DTEND;TZID=America/Moncton:20260201T170000
DTSTAMP:20260425T105410
CREATED:20250222T012407Z
LAST-MODIFIED:20260128T210046Z
UID:6426-1769760000-1769965200@tsacurlingclub.com
SUMMARY:Women's and Men's International Groundhog Spiel
DESCRIPTION:The Groundhog Spiel starts January 30 and goes to February 1. \n \n 
URL:https://tsacurlingclub.com/event/womens-and-mens-international-groundhog-spiel/
LOCATION:TSA Curling Club\, 49 Dufferin Avenue\, Saint John\, NB\, E2K 2T7\, Canada
CATEGORIES:Bonspiel,Mens,TSA,Womens
ATTACH;FMTTYPE=application/pdf:https://tsacurlingclub.com/wp-content/uploads/2025/02/Groundhog-Spiel-2026-Curling-Poster-2026.pdf
END:VEVENT
BEGIN:VEVENT
DTSTART;TZID=America/Moncton:20260207T130000
DTEND;TZID=America/Moncton:20260207T170000
DTSTAMP:20260425T105410
CREATED:20251111T032352Z
LAST-MODIFIED:20260120T211602Z
UID:7920-1770469200-1770483600@tsacurlingclub.com
SUMMARY:Kids in the House
DESCRIPTION:
URL:https://tsacurlingclub.com/event/kids-in-the-house-2/
LOCATION:TSA Curling Club\, 49 Dufferin Avenue\, Saint John\, NB\, E2K 2T7\, Canada
CATEGORIES:Bonspiel,Little Rock,TSA
ATTACH;FMTTYPE=image/jpeg:https://tsacurlingclub.com/wp-content/uploads/2025/11/Jamboree.jpg
END:VEVENT
BEGIN:VEVENT
DTSTART;TZID=America/Moncton:20260213T080000
DTEND;TZID=America/Moncton:20260215T170000
DTSTAMP:20260425T105410
CREATED:20250220T145414Z
LAST-MODIFIED:20250220T145415Z
UID:6407-1770969600-1771174800@tsacurlingclub.com
SUMMARY:U15 Kenny Coates
DESCRIPTION:
URL:https://tsacurlingclub.com/event/u15-kenny-coates-2/
LOCATION:TSA Curling Club\, 49 Dufferin Avenue\, Saint John\, NB\, E2K 2T7\, Canada
CATEGORIES:Mens,TSA,Womens
END:VEVENT
BEGIN:VEVENT
DTSTART;TZID=America/Moncton:20260216T080000
DTEND;TZID=America/Moncton:20260224T120000
DTSTAMP:20260425T105410
CREATED:20260128T004423Z
LAST-MODIFIED:20260128T004653Z
UID:8632-1771228800-1771934400@tsacurlingclub.com
SUMMARY:TSA Food Drive - Supporting the North End Food Bank
DESCRIPTION:The demand at the North End Food Bank has tripled from 279 households in 2019 to 650 in 2025. \nTotes will be available near the front door of the club from Feb 16th to the 24th. \nSpecial Needs include instant coffee\, tea and sugar \nThe North End Food Bank greatly appreciates TSA’s continued generosity and support.
URL:https://tsacurlingclub.com/event/tsa-food-drive-support-north-end-food-bank/
LOCATION:TSA Curling Club\, 49 Dufferin Avenue\, Saint John\, NB\, E2K 2T7\, Canada
CATEGORIES:TSA
ATTACH;FMTTYPE=image/png:https://tsacurlingclub.com/wp-content/uploads/2026/01/Food-Drive-Winter-2026.png
END:VEVENT
BEGIN:VEVENT
DTSTART;VALUE=DATE:20260221
DTEND;VALUE=DATE:20260222
DTSTAMP:20260425T105410
CREATED:20260203T151230Z
LAST-MODIFIED:20260203T151257Z
UID:8675-1771632000-1771718399@tsacurlingclub.com
SUMMARY:TSA LOTTO 10/49 Feb 21
DESCRIPTION:The LOTTO 10/49 starts again on Feb 21. The deadline to enter is FRIDAY FEB 20 at 11 PM. This is open to all New Brunswick residents over 18 years of age. \nThere will be three more lottos: \n\nFeb 21\nMarch 28\nMay 2\n\nYou can buy 1 set of numbers for $10 or 3 sets for $30. Learn more at https://tsacurlingclub.com/tsa-lotto/
URL:https://tsacurlingclub.com/event/tsa-lotto-10-49-feb-21/
LOCATION:NB
CATEGORIES:TSA
ATTACH;FMTTYPE=image/jpeg:https://tsacurlingclub.com/wp-content/uploads/2026/02/duck-1600x900-1.jpg
END:VEVENT
BEGIN:VEVENT
DTSTART;TZID=America/Moncton:20260221T080000
DTEND;TZID=America/Moncton:20260221T170000
DTSTAMP:20260425T105410
CREATED:20251231T182053Z
LAST-MODIFIED:20251231T182054Z
UID:8462-1771660800-1771693200@tsacurlingclub.com
SUMMARY:Black Bear Softball Fundraiser
DESCRIPTION:
URL:https://tsacurlingclub.com/event/black-bear-softball-fundraiser/
LOCATION:TSA Curling Club\, 49 Dufferin Avenue\, Saint John\, NB\, E2K 2T7\, Canada
CATEGORIES:TSA,Womens
ATTACH;FMTTYPE=image/png:https://tsacurlingclub.com/wp-content/uploads/2025/12/BlackBearsSoftballLogo.png
END:VEVENT
END:VCALENDAR