BEGIN:VCALENDAR
VERSION:2.0
PRODID:-//TSA Curling Club - ECPv6.15.20//NONSGML v1.0//EN
CALSCALE:GREGORIAN
METHOD:PUBLISH
X-ORIGINAL-URL:https://tsacurlingclub.com
X-WR-CALDESC:Events for TSA Curling Club
REFRESH-INTERVAL;VALUE=DURATION:PT1H
X-Robots-Tag:noindex
X-PUBLISHED-TTL:PT1H
BEGIN:VTIMEZONE
TZID:America/Moncton
BEGIN:DAYLIGHT
TZOFFSETFROM:-0400
TZOFFSETTO:-0300
TZNAME:ADT
DTSTART:20250309T060000
END:DAYLIGHT
BEGIN:STANDARD
TZOFFSETFROM:-0300
TZOFFSETTO:-0400
TZNAME:AST
DTSTART:20251102T050000
END:STANDARD
BEGIN:DAYLIGHT
TZOFFSETFROM:-0400
TZOFFSETTO:-0300
TZNAME:ADT
DTSTART:20260308T060000
END:DAYLIGHT
BEGIN:STANDARD
TZOFFSETFROM:-0300
TZOFFSETTO:-0400
TZNAME:AST
DTSTART:20261101T050000
END:STANDARD
BEGIN:DAYLIGHT
TZOFFSETFROM:-0400
TZOFFSETTO:-0300
TZNAME:ADT
DTSTART:20270314T060000
END:DAYLIGHT
BEGIN:STANDARD
TZOFFSETFROM:-0300
TZOFFSETTO:-0400
TZNAME:AST
DTSTART:20271107T050000
END:STANDARD
END:VTIMEZONE
BEGIN:VEVENT
DTSTART;VALUE=DATE:20260101
DTEND;VALUE=DATE:20260102
DTSTAMP:20260425T123954
CREATED:20251125T160109Z
LAST-MODIFIED:20251125T160150Z
UID:8175-1767225600-1767311999@tsacurlingclub.com
SUMMARY:Closed - New Years Day
DESCRIPTION:
URL:https://tsacurlingclub.com/event/closed-happy-new-year/
LOCATION:TSA Curling Club\, 49 Dufferin Avenue\, Saint John\, NB\, E2K 2T7\, Canada
CATEGORIES:TSA
ATTACH;FMTTYPE=image/webp:https://tsacurlingclub.com/wp-content/uploads/2025/11/wp15023319.webp
END:VEVENT
BEGIN:VEVENT
DTSTART;TZID=America/Moncton:20260116T080000
DTEND;TZID=America/Moncton:20260118T170000
DTSTAMP:20260425T123954
CREATED:20250222T012222Z
LAST-MODIFIED:20260114T191412Z
UID:6424-1768550400-1768755600@tsacurlingclub.com
SUMMARY:TSA Club Championship Qualifier
DESCRIPTION:Click here to view schedule: TSA Club Qualifier Schedule
URL:https://tsacurlingclub.com/event/tsa-club-championship-qualifier-2/
LOCATION:TSA Curling Club\, 49 Dufferin Avenue\, Saint John\, NB\, E2K 2T7\, Canada
CATEGORIES:Mens,TSA,Womens
ATTACH;FMTTYPE=image/jpeg:https://tsacurlingclub.com/wp-content/uploads/2025/02/NB-Club-Championship-3.jpg
END:VEVENT
BEGIN:VEVENT
DTSTART;TZID=America/Moncton:20260123T080000
DTEND;TZID=America/Moncton:20260125T170000
DTSTAMP:20260425T123954
CREATED:20250222T011951Z
LAST-MODIFIED:20251125T185834Z
UID:6422-1769155200-1769360400@tsacurlingclub.com
SUMMARY:Police Provincial Championships
DESCRIPTION:
URL:https://tsacurlingclub.com/event/police-provincial-championships/
LOCATION:TSA Curling Club\, 49 Dufferin Avenue\, Saint John\, NB\, E2K 2T7\, Canada
CATEGORIES:Mens,TSA,Womens
ATTACH;FMTTYPE=image/png:https://tsacurlingclub.com/wp-content/uploads/2025/02/image0.png
END:VEVENT
BEGIN:VEVENT
DTSTART;TZID=America/Moncton:20260130T080000
DTEND;TZID=America/Moncton:20260201T170000
DTSTAMP:20260425T123954
CREATED:20250222T012407Z
LAST-MODIFIED:20260128T210046Z
UID:6426-1769760000-1769965200@tsacurlingclub.com
SUMMARY:Women's and Men's International Groundhog Spiel
DESCRIPTION:The Groundhog Spiel starts January 30 and goes to February 1. \n \n 
URL:https://tsacurlingclub.com/event/womens-and-mens-international-groundhog-spiel/
LOCATION:TSA Curling Club\, 49 Dufferin Avenue\, Saint John\, NB\, E2K 2T7\, Canada
CATEGORIES:Bonspiel,Mens,TSA,Womens
ATTACH;FMTTYPE=application/pdf:https://tsacurlingclub.com/wp-content/uploads/2025/02/Groundhog-Spiel-2026-Curling-Poster-2026.pdf
END:VEVENT
END:VCALENDAR