BEGIN:VCALENDAR
VERSION:2.0
PRODID:-//TSA Curling Club - ECPv6.15.20//NONSGML v1.0//EN
CALSCALE:GREGORIAN
METHOD:PUBLISH
X-ORIGINAL-URL:https://tsacurlingclub.com
X-WR-CALDESC:Events for TSA Curling Club
REFRESH-INTERVAL;VALUE=DURATION:PT1H
X-Robots-Tag:noindex
X-PUBLISHED-TTL:PT1H
BEGIN:VTIMEZONE
TZID:America/Moncton
BEGIN:DAYLIGHT
TZOFFSETFROM:-0400
TZOFFSETTO:-0300
TZNAME:ADT
DTSTART:20230312T060000
END:DAYLIGHT
BEGIN:STANDARD
TZOFFSETFROM:-0300
TZOFFSETTO:-0400
TZNAME:AST
DTSTART:20231105T050000
END:STANDARD
BEGIN:DAYLIGHT
TZOFFSETFROM:-0400
TZOFFSETTO:-0300
TZNAME:ADT
DTSTART:20240310T060000
END:DAYLIGHT
BEGIN:STANDARD
TZOFFSETFROM:-0300
TZOFFSETTO:-0400
TZNAME:AST
DTSTART:20241103T050000
END:STANDARD
BEGIN:DAYLIGHT
TZOFFSETFROM:-0400
TZOFFSETTO:-0300
TZNAME:ADT
DTSTART:20250309T060000
END:DAYLIGHT
BEGIN:STANDARD
TZOFFSETFROM:-0300
TZOFFSETTO:-0400
TZNAME:AST
DTSTART:20251102T050000
END:STANDARD
BEGIN:DAYLIGHT
TZOFFSETFROM:-0400
TZOFFSETTO:-0300
TZNAME:ADT
DTSTART:20260308T060000
END:DAYLIGHT
BEGIN:STANDARD
TZOFFSETFROM:-0300
TZOFFSETTO:-0400
TZNAME:AST
DTSTART:20261101T050000
END:STANDARD
BEGIN:DAYLIGHT
TZOFFSETFROM:-0400
TZOFFSETTO:-0300
TZNAME:ADT
DTSTART:20270314T060000
END:DAYLIGHT
BEGIN:STANDARD
TZOFFSETFROM:-0300
TZOFFSETTO:-0400
TZNAME:AST
DTSTART:20271107T050000
END:STANDARD
END:VTIMEZONE
BEGIN:VEVENT
DTSTART;TZID=America/Moncton:20260402T170000
DTEND;TZID=America/Moncton:20260404T170000
DTSTAMP:20260425T122214
CREATED:20260215T230004Z
LAST-MODIFIED:20260218T030842Z
UID:8724-1775149200-1775322000@tsacurlingclub.com
SUMMARY:TSA Sturling Club Championship
DESCRIPTION:TSA Sturling Club Championship \nThe dates: April 2nd \, 3rd and 4th starting at 5:00 or 6:00 o’clock Thursday April 2nd and ending late afternoon Saturday April 4th\nTeam : one traditional curler and one stick curler\nRules : Rules will be stick curling rules . 6 ends ect.\nRegistration: $25.00 per person\nGuaranteed 4 games\nThis is for TSA members only\nFirst 48 teams are in.\n\nContact Harry McDougall at 3dogs1love@bellaliant.net or call 506-650-5306 or sign up on the sign up sheet at the club.\n\nNote: The trophy is so large we will need 4 people to carry it in and it will require its own room to display.\nThis is a very prestigious award so get your name on it first\nThis is truly a club championship
URL:https://tsacurlingclub.com/event/sturling-club-championship/
LOCATION:TSA Curling Club\, 49 Dufferin Avenue\, Saint John\, NB\, E2K 2T7\, Canada
CATEGORIES:Bonspiel,Mens,Mixed,Stick,TSA,Womens
ATTACH;FMTTYPE=image/png:https://tsacurlingclub.com/wp-content/uploads/2026/02/TSA-Sturling-Club-Championship-Final.png
END:VEVENT
BEGIN:VEVENT
DTSTART;VALUE=DATE:20260307
DTEND;VALUE=DATE:20260308
DTSTAMP:20260425T122214
CREATED:20251111T032524Z
LAST-MODIFIED:20260306T014139Z
UID:7922-1772841600-1772927999@tsacurlingclub.com
SUMMARY:Denim & Diamonds - Day Ladies Funspiel
DESCRIPTION:
URL:https://tsacurlingclub.com/event/tsa-day-ladies-spiel/
LOCATION:TSA Curling Club\, 49 Dufferin Avenue\, Saint John\, NB\, E2K 2T7\, Canada
CATEGORIES:Bonspiel,TSA,Womens
ATTACH;FMTTYPE=image/jpeg:https://tsacurlingclub.com/wp-content/uploads/2026/03/Denim-Diamonds-Posters-Combined2-scaled.jpg
END:VEVENT
BEGIN:VEVENT
DTSTART;TZID=America/Moncton:20260207T130000
DTEND;TZID=America/Moncton:20260207T170000
DTSTAMP:20260425T122214
CREATED:20251111T032352Z
LAST-MODIFIED:20260120T211602Z
UID:7920-1770469200-1770483600@tsacurlingclub.com
SUMMARY:Kids in the House
DESCRIPTION:
URL:https://tsacurlingclub.com/event/kids-in-the-house-2/
LOCATION:TSA Curling Club\, 49 Dufferin Avenue\, Saint John\, NB\, E2K 2T7\, Canada
CATEGORIES:Bonspiel,Little Rock,TSA
ATTACH;FMTTYPE=image/jpeg:https://tsacurlingclub.com/wp-content/uploads/2025/11/Jamboree.jpg
END:VEVENT
BEGIN:VEVENT
DTSTART;TZID=America/Moncton:20260130T080000
DTEND;TZID=America/Moncton:20260201T170000
DTSTAMP:20260425T122214
CREATED:20250222T012407Z
LAST-MODIFIED:20260128T210046Z
UID:6426-1769760000-1769965200@tsacurlingclub.com
SUMMARY:Women's and Men's International Groundhog Spiel
DESCRIPTION:The Groundhog Spiel starts January 30 and goes to February 1. \n \n 
URL:https://tsacurlingclub.com/event/womens-and-mens-international-groundhog-spiel/
LOCATION:TSA Curling Club\, 49 Dufferin Avenue\, Saint John\, NB\, E2K 2T7\, Canada
CATEGORIES:Bonspiel,Mens,TSA,Womens
ATTACH;FMTTYPE=application/pdf:https://tsacurlingclub.com/wp-content/uploads/2025/02/Groundhog-Spiel-2026-Curling-Poster-2026.pdf
END:VEVENT
BEGIN:VEVENT
DTSTART;TZID=America/Moncton:20251121T080000
DTEND;TZID=America/Moncton:20251123T170000
DTSTAMP:20260425T122214
CREATED:20250909T232258Z
LAST-MODIFIED:20250909T232300Z
UID:7215-1763712000-1763917200@tsacurlingclub.com
SUMMARY:TSA Inaugural Stick Curling Cashspiel
DESCRIPTION:
URL:https://tsacurlingclub.com/event/tsa-inaugural-stick-curling-cashspiel/
LOCATION:TSA Curling Club\, 49 Dufferin Avenue\, Saint John\, NB\, E2K 2T7\, Canada
CATEGORIES:Bonspiel,Mens,Mixed,Stick,TSA,Womens
ATTACH;FMTTYPE=image/png:https://tsacurlingclub.com/wp-content/uploads/2025/09/ChatGPT-Image-Sep-9-2025-08_15_14-PM.png
END:VEVENT
BEGIN:VEVENT
DTSTART;TZID=America/Moncton:20251107T080000
DTEND;TZID=America/Moncton:20251109T170000
DTSTAMP:20260425T122214
CREATED:20250411T235110Z
LAST-MODIFIED:20250602T130134Z
UID:7056-1762502400-1762707600@tsacurlingclub.com
SUMMARY:TSA Junior Cashspiel
DESCRIPTION:TSA Junior Cashspiel – Save the Date\n\nWe hope everybody had a great season and is looking forward to a fun summer.\n\nThis year’s event will take place on Nov 7th – 9th and as always we want to get as many teams out as possible to participate.\n\nWe have 8 sheets of play at TSA which means we can accommodate up to 32 teams for this event.   As an early season spiel\, our goal for this event has always been to give all teams as many competitive games as we can. We look to guarantee at least 4 for every team again this year.  Most teams usually get 5 but that will depend on the number of teams and schedule we can create.\n\nThis year\, Monday is not a holiday so we will start on the Friday and finish up on Sunday.\n\nWe hope to have enough teams to have 3 age sections (U15\, U18\, U20) and separate boys and girls divisions\, but in order to have competitive games for all participants\, We may adjust that plan as we get closer to the event. In recent years we have combined teams of both genders in the same section/pool to meet that goal.\n\nThis year we will do registration in Curling I/O. Link will be made active on July 1st\nEntries will be taken on a first-come-first-served basis so please reserve your spot early.\n\nRegistration fee:  $300 per team U20 and U18 – $250 U15 – paid through Curling I/O (Link will be emailed out on July 1st.)\nAge groups:  U15\, U18 and U20   Entry deadline:  Friday\, October 3 or when we reach 32 teams.\n\nTeams can express interest any time by emailing back and will be given preference by date received.\n\nSchedule:\n\nTo be determined (current plan to start no earlier than noon Friday)\n\nCancellations:\n\nTeams may cancel at any time\, however after October 3rd we will be unable to provide a refund of registration fees submitted unless a replacement team can be found.\n\n\n\nMany thanks for your interest.   We’d love to welcome you and your team at TSA in November 2025.
URL:https://tsacurlingclub.com/event/tsa-junior-cashspiel/
LOCATION:TSA Curling Club\, 49 Dufferin Avenue\, Saint John\, NB\, E2K 2T7\, Canada
CATEGORIES:Bonspiel,Juniors
ATTACH;FMTTYPE=image/png:https://tsacurlingclub.com/wp-content/uploads/2025/04/TSA-Junior-Cashspiel-Version-1.png
ORGANIZER;CN="TSA Curling Club":MAILTO:tsa@nb.aibn.com
END:VEVENT
BEGIN:VEVENT
DTSTART;TZID=America/Moncton:20251023T130000
DTEND;TZID=America/Moncton:20251026T170000
DTSTAMP:20260425T122214
CREATED:20250222T011643Z
LAST-MODIFIED:20250222T011644Z
UID:6418-1761224400-1761498000@tsacurlingclub.com
SUMMARY:2025 Riverboat Classic
DESCRIPTION:
URL:https://tsacurlingclub.com/event/2025-riverboat-classic/
LOCATION:TSA Curling Club\, 49 Dufferin Avenue\, Saint John\, NB\, E2K 2T7\, Canada
CATEGORIES:Bonspiel,Mens,TSA
ATTACH;FMTTYPE=image/png:https://tsacurlingclub.com/wp-content/uploads/2024/01/Riverboat-2024-Image.png
END:VEVENT
BEGIN:VEVENT
DTSTART;TZID=America/Moncton:20250308T110000
DTEND;TZID=America/Moncton:20250308T180000
DTSTAMP:20260425T122214
CREATED:20250109T014302Z
LAST-MODIFIED:20250109T015257Z
UID:5931-1741431600-1741456800@tsacurlingclub.com
SUMMARY:Kids in the House
DESCRIPTION:Little Rockers must be registered in a NB Little Rocks program and born on or after July 1\, 2012. Children will register as an individual and be assigned to a new team each draw to create lots of new friendships. Registration fee is $20 plus tax and we ask that you pay online if possible to reduce payment collection the day of the event. The registration link is tsa.curling.io\n Last\, it is a one-day event and each child gets a medal\, t-shirt\, 4 draws of curling\, pizza\, and dance party lol. The deadline to register is January 31st to have enough time to get the correct t-shirt sizes.  
URL:https://tsacurlingclub.com/event/kids-in-the-house/
LOCATION:TSA Curling Club\, 49 Dufferin Avenue\, Saint John\, NB\, E2K 2T7\, Canada
CATEGORIES:Bonspiel,Little Rock,TSA
ATTACH;FMTTYPE=image/png:https://tsacurlingclub.com/wp-content/uploads/2025/01/KIDS-IN-THE-HOUSE-EVENT-POSTER.png
END:VEVENT
BEGIN:VEVENT
DTSTART;TZID=America/Moncton:20250222T080000
DTEND;TZID=America/Moncton:20250222T170000
DTSTAMP:20260425T122214
CREATED:20250109T013837Z
LAST-MODIFIED:20250221T171110Z
UID:5929-1740211200-1740243600@tsacurlingclub.com
SUMMARY:Lady Thistle - Day Ladies FunSpiel
DESCRIPTION:Deadline to register February 15\, 2025      Registration $200/team | $50/person \nTwo 6-end Games \nMorning Treats \nLunch • Dinner \nEntertainment and Prizes \nTo register\, contact Fran Meehan (506) 693-5565 or francescurl@bellaliant.net\n			\n			\n				\n				\n				\n				\n			\n				\n				\n			\n				\n				\n				\n				\n				\n				\n				\n				\n				\n				\n				\n				\n				\n				\n				\n				\n				\n				Thank you to our 'Denim & Diamond' – Day Ladies FunSpiel Sponsors!
URL:https://tsacurlingclub.com/event/day-ladies-funspiel/
LOCATION:TSA Curling Club\, 49 Dufferin Avenue\, Saint John\, NB\, E2K 2T7\, Canada
CATEGORIES:Bonspiel,TSA,Womens
ATTACH;FMTTYPE=image/png:https://tsacurlingclub.com/wp-content/uploads/2025/01/Lady-Thistle-Poster-png.png
END:VEVENT
BEGIN:VEVENT
DTSTART;VALUE=DATE:20250214
DTEND;VALUE=DATE:20250217
DTSTAMP:20260425T122214
CREATED:20240804T201347Z
LAST-MODIFIED:20240804T201347Z
UID:2264-1739491200-1739750399@tsacurlingclub.com
SUMMARY:U15 Kenny Coates
DESCRIPTION:U15 Kenny Coates \n  \nDeadline is Jan 23\, 2025
URL:https://tsacurlingclub.com/event/u15-kenny-coates/
LOCATION:TSA Curling Club\, 49 Dufferin Avenue\, Saint John\, NB\, E2K 2T7\, Canada
CATEGORIES:Bonspiel,Mens,TSA,Womens
ORGANIZER;CN="Felipe Marin (felipe@mathroom.ca)":MAILTO:felipe@mathroom.ca
END:VEVENT
BEGIN:VEVENT
DTSTART;VALUE=DATE:20250131
DTEND;VALUE=DATE:20250203
DTSTAMP:20260425T122214
CREATED:20241113T184315Z
LAST-MODIFIED:20250108T141834Z
UID:5331-1738281600-1738540799@tsacurlingclub.com
SUMMARY:International Groundhog Curling Spiel - Men's & Women's
DESCRIPTION:
URL:https://tsacurlingclub.com/event/international-groundhog-curling-spiel-mens-womens/
LOCATION:TSA Curling Club\, 49 Dufferin Avenue\, Saint John\, NB\, E2K 2T7\, Canada
CATEGORIES:Bonspiel,Mens,TSA,Womens
ATTACH;FMTTYPE=image/webp:https://tsacurlingclub.com/wp-content/uploads/2024/11/Groundhog-Spiel-1.webp
ORGANIZER;CN="TSA Curling Club":MAILTO:tsa@nb.aibn.com
END:VEVENT
BEGIN:VEVENT
DTSTART;TZID=America/Moncton:20241116T080000
DTEND;TZID=America/Moncton:20241117T170000
DTSTAMP:20260425T122214
CREATED:20240905T172622Z
LAST-MODIFIED:20241024T172725Z
UID:2852-1731744000-1731862800@tsacurlingclub.com
SUMMARY:TSA's 150 Anniversary presents "The Past President's Cup"
DESCRIPTION:Ready to meet foes in “Friendly strife”? \nPast Presidents of Thistle-St Andrews Curling Club will be invited to enter a team of curlers to compete in a two day Curling spiel. \nOnly one President permitted per team. \nOur motto :We Daur Yi Tae The Fecht”\, which is scottish for ‘we dare you to the fight’. \nCheck back later for more details.
URL:https://tsacurlingclub.com/event/150-anniversary-presents-the-presidents-cup/
LOCATION:TSA Curling Club\, 49 Dufferin Avenue\, Saint John\, NB\, E2K 2T7\, Canada
CATEGORIES:Bonspiel,Mixed,TSA
ATTACH;FMTTYPE=image/png:https://tsacurlingclub.com/wp-content/uploads/2024/09/PPC-Logo.png
END:VEVENT
BEGIN:VEVENT
DTSTART;TZID=America/Moncton:20241109T090000
DTEND;TZID=America/Moncton:20241111T160000
DTSTAMP:20260425T122214
CREATED:20241105T150451Z
LAST-MODIFIED:20241108T191426Z
UID:5179-1731142800-1731340800@tsacurlingclub.com
SUMMARY:TSA Junior Spiel
DESCRIPTION:Saturday:   9:00am\, 12:30pm\, 4:30pm\, 8:00pm\nSunday:  8:30am\, 12:00pm\, 4:00pm\, 7:30pm\nMonday:  9:00am\, 1:30pm\n\n28 teams in total:\n10 x U15 age (mixed boys and girls)  1 from PEI\, 2 x NS\, 7 from NB\n8 x U18 age girls:   2 x NS\, 8 x NB\n9 x U18/U20 age boys plus one TSA “All Stars” team which will be filled in by different players and teams – 1 x NL\, 4 x NS\, 4 x NB\n\n2024 TSA Junior Spiel_Full_Draw 2024 TSA Junior Spiel_U18_Girls 2024 TSA Junior Spiel_U15 2024 TSA Junior Spiel_U18_Boys
URL:https://tsacurlingclub.com/event/tsa-junior-spiel/
LOCATION:TSA Curling Club\, 49 Dufferin Avenue\, Saint John\, NB\, E2K 2T7\, Canada
CATEGORIES:Bonspiel,Mixed,TSA
ATTACH;FMTTYPE=image/png:https://tsacurlingclub.com/wp-content/uploads/2024/11/november-19th-26th.png
ORGANIZER;CN="Jeff Stewart":MAILTO:jsbstew@gmail.com
END:VEVENT
BEGIN:VEVENT
DTSTART;VALUE=DATE:20241024
DTEND;VALUE=DATE:20241028
DTSTAMP:20260425T122214
CREATED:20240109T203730Z
LAST-MODIFIED:20241024T134223Z
UID:692-1729728000-1730073599@tsacurlingclub.com
SUMMARY:2024 Riverboat Classic
DESCRIPTION:Welcome to the Riverboat Classic 2024\nCheckout the teams\, entertainment and schedule at https://riverboat.tsacurlingclub.com/. Drop by TSA Curling Club to see some excellent curling!
URL:https://tsacurlingclub.com/event/riverboat/
LOCATION:TSA Curling Club\, 49 Dufferin Avenue\, Saint John\, NB\, E2K 2T7\, Canada
CATEGORIES:Bonspiel,Mens,TSA
ATTACH;FMTTYPE=image/png:https://tsacurlingclub.com/wp-content/uploads/2024/01/New-Riverboat-Logo.png
ORGANIZER;CN="Riverboat Classic":MAILTO:jbstew@gmail.com
END:VEVENT
END:VCALENDAR